BEGIN:VCALENDAR
VERSION:2.0
PRODID:icalendar-ruby
CALSCALE:GREGORIAN
METHOD:PUBLISH
BEGIN:VEVENT
DTSTAMP:20260422T185911Z
UID:8-228296@sgccnorwich.com
DTSTART:20261004T170000Z
DTEND:20261004T180000Z
CLASS:PUBLIC
CREATED:20260422T113317
DESCRIPTION:Sunday Service
LAST-MODIFIED:20260422T113317
LOCATION:58 Hale Street\, Norwich NY
SUMMARY:Sunday Service
URL;VALUE=URI:https://sgccnorwich.com/events/sunday-service/2026-10-04
END:VEVENT
END:VCALENDAR
