BEGIN:VCALENDAR
VERSION:2.0
PRODID:icalendar-ruby
CALSCALE:GREGORIAN
METHOD:PUBLISH
BEGIN:VEVENT
DTSTAMP:20260422T234051Z
UID:8-228358@sgccnorwich.com
DTSTART:20261025T170000Z
DTEND:20261025T180000Z
CLASS:PUBLIC
CREATED:20260422T142841
DESCRIPTION:Sunday Service
LAST-MODIFIED:20260422T142841
LOCATION:58 Hale Street\, Norwich NY
SUMMARY:Sunday Service
URL;VALUE=URI:https://sgccnorwich.com/events/sunday-service/2026-10-25
END:VEVENT
END:VCALENDAR
