BEGIN:VCALENDAR
VERSION:2.0
PRODID:icalendar-ruby
CALSCALE:GREGORIAN
METHOD:PUBLISH
BEGIN:VEVENT
DTSTAMP:20260423T010200Z
UID:8-228418@sgccnorwich.com
DTSTART:20261101T180000Z
DTEND:20261101T190000Z
CLASS:PUBLIC
CREATED:20260422T172010
DESCRIPTION:Sunday Service
LAST-MODIFIED:20260422T172010
LOCATION:58 Hale Street\, Norwich NY
SUMMARY:Sunday Service
URL;VALUE=URI:https://sgccnorwich.com/events/sunday-service/2026-11-01
END:VEVENT
END:VCALENDAR
